BEGIN:VCALENDAR
VERSION:2.0
PRODID:-//eventon.com NONSGML v1.0//EN
CALSCALE:GREGORIAN
METHOD:PUBLISH
BEGIN:VEVENT
UID:69e8ba5ebf73e
DTSTAMP:20260422T120902Z
DTSTART:20240531T153000Z
DTEND:20240601T163000Z
LOCATION:Fonteinkerk Robert Kochstraat 2-4\,  3817 JM Amersfoort
SUMMARY:Retraiteweekend in Huis van Zuid
DESCRIPTION:Een retraite in de periode na Pinksteren waarin je je kunt late
 n voeden door meditatie\,  Bijbelteksten\,  poëzie\,  kunst\,  bibliodrama
 \,  stilte en de natuur rondom het thema ‘het levend houden van de hoop i
 n tijden van wanhoop’ o.l.v. begeleider Marco Last Thema‘Hoop is dat di
 ng met veren\,  dat neerdaalt in de[..]\nhttps://fonteinkerk-amersfoort.nl/
 events/retraiteweekend-huis-van-zuid/
URL:https://fonteinkerk-amersfoort.nl/events/retraiteweekend-huis-van-zuid/
END:VEVENT
END:VCALENDAR