BEGIN:VCALENDAR
VERSION:2.0
PRODID:-//eventon.com NONSGML v1.0//EN
CALSCALE:GREGORIAN
METHOD:PUBLISH
BEGIN:VEVENT
UID:69e8a61fdbfd9
DTSTAMP:20260422T104239Z
DTSTART:20240406T140000Z
DTEND:20240406T215000Z
LOCATION:Fonteinkerk Robert Kochstraat 2-4\,  3817 JM Amersfoort
SUMMARY:Etty Hillesum
DESCRIPTION:”Men zou een pleister op vele wonden willen zijn”\,  luiden
  de laatste woorden die Etty Hillesum op 13 oktober 1942 schrijft in haar w
 ereldberoemd geworden dagboek. De uitspraak is typerend voor Etty’s leven
 shouding\,  hoe zij andere mensen wilde bijstaan. Haar dagboek is de inspir
 atie voor het muzikaal theaterstuk\,  een samenwerking[..]\nhttps://fontein
 kerk-amersfoort.nl/events/etty-hillesum/
URL:https://fonteinkerk-amersfoort.nl/events/etty-hillesum/
END:VEVENT
END:VCALENDAR