BEGIN:VCALENDAR
VERSION:2.0
PRODID:-//eventon.com NONSGML v1.0//EN
CALSCALE:GREGORIAN
METHOD:PUBLISH
BEGIN:VEVENT
UID:69e8a62f00508
DTSTAMP:20260422T104255Z
DTSTART:20240211T110000Z
DTEND:20240211T225000Z
LOCATION:Fonteinkerk Robert Kochstraat 2-4\,  3817 JM Amersfoort
SUMMARY:Muziek en Ontmoeting: Diederik Blankesteijn
DESCRIPTION:Midden in de Nederlandse februarimaand klinkt er zonnige muziek
  uit Frankrijk en Italië\,  op drie verschillende toetsinstrumenten: het k
 lavecimbel\,  de piano en het orgel. Het poëtische stukje ‘Les Barricade
 s Mystérieuses’ van François Couperin brengt de eigenheid van elk instr
 ument aan het licht. Van dezelfde componist klinken ook delen uit een[..]\n
 https://fonteinkerk-amersfoort.nl/events/diederik_blankesteijn/
URL:https://fonteinkerk-amersfoort.nl/events/diederik_blankesteijn/
END:VEVENT
END:VCALENDAR