BEGIN:VCALENDAR
VERSION:2.0
PRODID:-//eventon.com NONSGML v1.0//EN
CALSCALE:GREGORIAN
METHOD:PUBLISH
BEGIN:VEVENT
UID:69e8bb2d3ad4b
DTSTAMP:20260422T121229Z
DTSTART:20240228T190000Z
DTEND:20240228T225000Z
LOCATION:Fonteinkerk Robert Kochstraat 2-4\,  3817 JM Amersfoort
SUMMARY:Tafelen met Jezus
DESCRIPTION:Wie Jezus meemaakt bij een etentje\,  leert hem pas echt goed k
 ennen! Zoiets moet de evangelist Lucas gedacht hebben\,  toen hij besloot o
 m voor zijn verhaal over Jezus zoveel eetverhalen te gebruiken. In die tijd
  zijn moraal\,  maatschappijvisie en geloof nauw verbonden met tafeletiquet
 te\,  daarom kun je aan iemands tafelgedrag[..]\nhttps://fonteinkerk-amersf
 oort.nl/events/tafelen-met-jezus/
URL:https://fonteinkerk-amersfoort.nl/events/tafelen-met-jezus/
END:VEVENT
END:VCALENDAR