BEGIN:VCALENDAR
VERSION:2.0
PRODID:-//eventon.com NONSGML v1.0//EN
CALSCALE:GREGORIAN
METHOD:PUBLISH
BEGIN:VEVENT
UID:69e8d3a69d9c6
DTSTAMP:20260422T135654Z
DTSTART:20240916T180000Z
DTEND:20240916T200000Z
LOCATION:Fonteinkerk Robert Kochstraat 2-4\,  3817 JM Amersfoort
SUMMARY:Leerhuis Noach
DESCRIPTION:Na ons de zondvloed: hoe het verhaal van Noach (Noech) ons een 
 spiegel voorhoudt. Het is een vreemd en op het eerste oog wreed verhaal: He
 t verwoestende gedrag van de mensheid dat hemeltergend is. En die Hemel sla
 at dan terug met een grote vloed. Slechts Noach\,  zijn directe verwanten e
 n[..]\nhttps://fonteinkerk-amersfoort.nl/events/leerhuis-noach/
URL:https://fonteinkerk-amersfoort.nl/events/leerhuis-noach/
END:VEVENT
END:VCALENDAR