BEGIN:VCALENDAR
VERSION:2.0
PRODID:-//eventon.com NONSGML v1.0//EN
CALSCALE:GREGORIAN
METHOD:PUBLISH
BEGIN:VEVENT
UID:69e8ebd26e2b8
DTSTAMP:20260422T154002Z
DTSTART:20240111T190000Z
DTEND:20240111T225000Z
LOCATION:Fonteinkerk Robert Kochstraat 2-4\,  3817 JM Amersfoort
SUMMARY:Maar ik ben geen schooier
DESCRIPTION:Lezing door Adriaan van Es ( voormalig huisarts te Amersfoort) 
 over het boek -Maar ik ben geen schooier -dat hij samen met de Amersfoortse
  journalist Arjeh Kalmann schreef. Nicolaas van Nieuwenhuysen was een bekwa
 am en gerespecteerd chirurg\,  een maatschappelijk geëngageerde notabel di
 e in een van de mooiste huizen op de[..]\nhttps://fonteinkerk-amersfoort.nl
 /events/maar-ik-ben-geen-schooier/
URL:https://fonteinkerk-amersfoort.nl/events/maar-ik-ben-geen-schooier/
END:VEVENT
END:VCALENDAR