BEGIN:VCALENDAR
VERSION:2.0
PRODID:-//eventon.com NONSGML v1.0//EN
CALSCALE:GREGORIAN
METHOD:PUBLISH
BEGIN:VEVENT
UID:69e905215d627
DTSTAMP:20260422T172801Z
DTSTART:20231203T110000Z
DTEND:20240215T120000Z
LOCATION:Fonteinkerk Robert Kochstraat 2-4\,  3817 JM Amersfoort
SUMMARY:Marc de Klijn
DESCRIPTION:Marc de Klijn (1939) is de zoon van het klassiek muzikale duo N
 ap de Klijn en Alice Heksch. Hij volgde een opleiding grafische vormgeving 
 aan de AGS te Basel\,  waarna hij sinds 1966 in Amsterdam ongeveer vijftien
  jaar werkzaam was\,  zowel in vaste dienst als free lance. In 1978 begon[.
 .]\nhttps://fonteinkerk-amersfoort.nl/events/expositie-marc-de-klijn/
URL:https://fonteinkerk-amersfoort.nl/events/expositie-marc-de-klijn/
END:VEVENT
END:VCALENDAR