BEGIN:VCALENDAR
VERSION:2.0
PRODID:-//eventon.com NONSGML v1.0//EN
CALSCALE:GREGORIAN
METHOD:PUBLISH
BEGIN:VEVENT
UID:69e91d3c0868b
DTSTAMP:20260422T191052Z
DTSTART:20240207T190000Z
DTEND:20240207T225000Z
LOCATION:Fonteinkerk Robert Kochstraat 2-4\,  3817 JM Amersfoort
SUMMARY:Informatieavond Amersfoort gaat naar Taizé 2024!
DESCRIPTION:Dit is een bericht voor iedereen tussen de 15 en 25 jaar\,  die
  zich afvraagt hoe het komt dat mensen altijd zo enthousiast terugkomen van
  een weekje naar Taizé.Binnenkort kun je er zelf naar toe! Het is een mooi
 e gelegenheid om Taizé te leren kennen\,  en ook om nieuwe vriendschappen[
 ..]\nhttps://fonteinkerk-amersfoort.nl/events/informatieavond-amersfoort-ga
 at-naar-taize-2024/
URL:https://fonteinkerk-amersfoort.nl/events/informatieavond-amersfoort-gaat-naar-taize-2024/
END:VEVENT
END:VCALENDAR