BEGIN:VCALENDAR
VERSION:2.0
PRODID:-//eventon.com NONSGML v1.0//EN
CALSCALE:GREGORIAN
METHOD:PUBLISH
BEGIN:VEVENT
UID:69e93214d4592
DTSTAMP:20260422T203948Z
DTSTART:20231208T183000Z
DTEND:20231208T225000Z
LOCATION:Fonteinkerk Robert Kochstraat 2-4\,  3817 JM Amersfoort
SUMMARY:Twee films met gesprekken over anders verbouwen van ons voedsel
DESCRIPTION:Twee films met gesprekken over nieuwe hoopvolle initiatieven in
  de voedselbouw in het kader van het internationale food festival\,  Food F
 ilm Fest 2023. Een initiatief van Stichting Voedsel Anders. Deze stichting 
 brengt een groeiende beweging samen die werkt aan rechtvaardige en duurzame
  voedselsystemen met een verantwoord beheer van bodems\,  landschap\, [..]\
 nhttps://fonteinkerk-amersfoort.nl/events/twee-films-met-gesprekken-over-an
 ders-verbouwen-van-ons-voedsel/
URL:https://fonteinkerk-amersfoort.nl/events/twee-films-met-gesprekken-over-anders-verbouwen-van-ons-voedsel/
END:VEVENT
END:VCALENDAR