BEGIN:VCALENDAR
VERSION:2.0
PRODID:-//eventon.com NONSGML v1.0//EN
CALSCALE:GREGORIAN
METHOD:PUBLISH
BEGIN:VEVENT
UID:69e948d4a8152
DTSTAMP:20260422T221652Z
DTSTART:20231119T110000Z
DTEND:20231119T225000Z
LOCATION:Fonteinkerk Robert Kochstraat 2-4\,  3817 JM Amersfoort
SUMMARY:Muziek en Ontmoeting: Trio con Brio
DESCRIPTION:Op 19 november gaat u tijdens Muziek en Ontmoeting onder andere
  genieten van het baroktrio ‘Trio con Brio’ onder leiding van Hein Hof.
  Zij spelen voor u Bachsonate in F BWV 1035 en de Händelsonate in d HWV 36
 7a. Hein Hof start het concert op het orgel met de Toccata[..]\nhttps://fon
 teinkerk-amersfoort.nl/events/muziek-en-ontmoeting-trio-con-brio/
URL:https://fonteinkerk-amersfoort.nl/events/muziek-en-ontmoeting-trio-con-brio/
END:VEVENT
END:VCALENDAR