BEGIN:VCALENDAR
VERSION:2.0
PRODID:-//eventon.com NONSGML v1.0//EN
CALSCALE:GREGORIAN
METHOD:PUBLISH
BEGIN:VEVENT
UID:69e95cb5dc681
DTSTAMP:20260422T234141Z
DTSTART:20231029T220000Z
DTEND:20231029T224500Z
LOCATION:Fonteinkerk Robert Kochstraat 2-4\,  3817 JM Amersfoort
SUMMARY:Presentatie profielschets predikant
DESCRIPTION:Presentatie profielschets predikant Aansluitend op de viering v
 an zondag 29 oktober a.s. presenteert de beroepingscommissie de profielsche
 ts van de nieuw te beroepen predikant. Meer informatie over het beroepingsp
 roces? Vul het contactformulier in\,  dan nemen wij contact met u op.\nhttp
 s://fonteinkerk-amersfoort.nl/events/presentatie-profielschets-predikant/
URL:https://fonteinkerk-amersfoort.nl/events/presentatie-profielschets-predikant/
END:VEVENT
END:VCALENDAR