BEGIN:VCALENDAR
VERSION:2.0
PRODID:-//eventon.com NONSGML v1.0//EN
CALSCALE:GREGORIAN
METHOD:PUBLISH
BEGIN:VEVENT
UID:69e976d842b06
DTSTAMP:20260423T013312Z
DTSTART:20231225T060000Z
DTEND:20231225T105000Z
LOCATION:Fonteinkerk Robert Kochstraat 2-4\,  3817 JM Amersfoort
SUMMARY:Kerstspel
DESCRIPTION:Kerstspel voor jong en oud Het traditionele Kerstspel van de Fo
 nteinkerk\,  van jong en oud\,  voor jong en oud.\nhttps://fonteinkerk-amer
 sfoort.nl/events/kerstspel-voor-jong-en-oud/
URL:https://fonteinkerk-amersfoort.nl/events/kerstspel-voor-jong-en-oud/
END:VEVENT
END:VCALENDAR