BEGIN:VCALENDAR
VERSION:2.0
PRODID:-//eventon.com NONSGML v1.0//EN
CALSCALE:GREGORIAN
METHOD:PUBLISH
BEGIN:VEVENT
UID:69e9e94d3b3df
DTSTAMP:20260423T094133Z
DTSTART:20231001T100000Z
DTEND:20231130T120000Z
LOCATION:Fonteinkerk Robert Kochstraat 2-4\,  3817 JM Amersfoort
SUMMARY:Expositie Lidy Ubbels
DESCRIPTION:Van 1 oktober tot 30 november a.s. zijn in Huis van Zuid de wan
 dkleden van Lidy Ubbels te zien. Lydi Ubbels is een kunstenaar die het amba
 cht van het gobelin-weven heeft gebruikt om haar kunstwerken te maken. Je z
 ou kunnen zeggen: zij schildert met wol. Ze maakt haar eigen ontwerpen[..]\
 nhttps://fonteinkerk-amersfoort.nl/events/expositie-lidy-ubbels/
URL:https://fonteinkerk-amersfoort.nl/events/expositie-lidy-ubbels/
END:VEVENT
END:VCALENDAR