BEGIN:VCALENDAR
VERSION:2.0
PRODID:-//eventon.com NONSGML v1.0//EN
CALSCALE:GREGORIAN
METHOD:PUBLISH
BEGIN:VEVENT
UID:69e9d8a534d33
DTSTAMP:20260423T083029Z
DTSTART:20230930T173000Z
DTEND:20230930T215000Z
LOCATION:Fonteinkerk Robert Kochstraat 2-4\,  3817 JM Amersfoort
SUMMARY:Hebreeuwse Psalmen Zangavond
DESCRIPTION:Op de vooravond van Israëlzondag wordt een landelijke Hebreeuw
 se Psalmenzangavond gehouden. Medewerking wordt verleend door chazan Gilad 
 Nezer\,  voorzanger bij de Liberale Synagoge in Amsterdam en zanger bij het
  Nederlands Kamerkoor\,  en door het Vocaal Theologen Ensemble o.l.v. dr. H
 anna Rijken. Inleiders zijn prof. Dineke Houtman en dr. Lieve Teugels.[..]\
 nhttps://fonteinkerk-amersfoort.nl/events/hebreeuwse-psalmen-zangavond/
URL:https://fonteinkerk-amersfoort.nl/events/hebreeuwse-psalmen-zangavond/
END:VEVENT
END:VCALENDAR