BEGIN:VCALENDAR
VERSION:2.0
PRODID:-//eventon.com NONSGML v1.0//EN
CALSCALE:GREGORIAN
METHOD:PUBLISH
BEGIN:VEVENT
UID:69e89256bcdec
DTSTAMP:20260422T091814Z
DTSTART:20231110T140000Z
DTEND:20231111T130000Z
LOCATION:Fonteinkerk Robert Kochstraat 2-4\,  3817 JM Amersfoort
SUMMARY:Duurzame ruilbeurs najaar 2023
DESCRIPTION:Als je op zaterdag 11 november 2023 wilt komen winkelen\,  dan 
 is de voorwaarde dat je éérst iets om te ruilen inbrengt. Dat kan op VRIJ
 DAG 10 NOVEMBER\,  tussen 15.00 en 20.00 UUR. Voor meer informatie kun je p
 er e-mail contact opnemen met VDO.\nhttps://fonteinkerk-amersfoort.nl/event
 s/duurzame-ruilbeurs-najaar-2023/
URL:https://fonteinkerk-amersfoort.nl/events/duurzame-ruilbeurs-najaar-2023/
END:VEVENT
END:VCALENDAR