BEGIN:VCALENDAR
VERSION:2.0
PRODID:-//eventon.com NONSGML v1.0//EN
CALSCALE:GREGORIAN
METHOD:PUBLISH
BEGIN:VEVENT
UID:69e8920575536
DTSTAMP:20260422T091653Z
DTSTART:20230922T180000Z
DTEND:20230922T215000Z
LOCATION:Fonteinkerk Robert Kochstraat 2-4\,  3817 JM Amersfoort
SUMMARY:Film: Where are you Adam?
DESCRIPTION:“Stilte beroert de snaren van de ziel” ‘Where are you\,  
 Adam?’ is een unieke en visueel rijke beschouwende documentaire. Op een e
 erbiedwaardige wijze toont ze een wereld waar de tijd niet door de klok wor
 dt beheerst. We zien hier gelovige mensen die helemaal opgaan in hun werk e
 n gebed. Ze[..]\nhttps://fonteinkerk-amersfoort.nl/events/where-are-you-ada
 m/
URL:https://fonteinkerk-amersfoort.nl/events/where-are-you-adam/
END:VEVENT
END:VCALENDAR