BEGIN:VCALENDAR
VERSION:2.0
PRODID:-//eventon.com NONSGML v1.0//EN
CALSCALE:GREGORIAN
METHOD:PUBLISH
BEGIN:VEVENT
UID:69e8ea5a0617b
DTSTAMP:20260422T153346Z
DTSTART:20230924T100000Z
DTEND:20230924T215000Z
LOCATION:Fonteinkerk Robert Kochstraat 2-4\,  3817 JM Amersfoort
SUMMARY:Muziek en Ontmoeting: Dudelim
DESCRIPTION:Op 24 september gaat u tijdens Muziek en Ontmoeting genieten va
 n Klezmermuziek door het trio Die Drei Dudelim. Drie Drei Dudelim zijn graa
 g geziene gasten in de Fonteinkerk; al meerdere keren waren zij te gast bij
  Muziek&amp;Ontmoeting met hun swingende en melancholische Klezmermuziek. E
 n ook deze keer belooft het weer[..]\nhttps://fonteinkerk-amersfoort.nl/eve
 nts/muziek-en-ontmoeting-dudelim/
URL:https://fonteinkerk-amersfoort.nl/events/muziek-en-ontmoeting-dudelim/
END:VEVENT
END:VCALENDAR