BEGIN:VCALENDAR
VERSION:2.0
PRODID:-//eventon.com NONSGML v1.0//EN
CALSCALE:GREGORIAN
METHOD:PUBLISH
BEGIN:VEVENT
UID:69e8d3bc539ee
DTSTAMP:20260422T135716Z
DTSTART:20230604T100000Z
DTEND:20230924T110000Z
LOCATION:Fonteinkerk Robert Kochstraat 2-4\,  3817 JM Amersfoort
SUMMARY:Expositie Marijke Snoek
DESCRIPTION:Marijke Snoek is met het thema ‘ONDERWEG’ al jaren bezig. H
 aar schilderijen met dit thema worden door een impressionistische stijl gek
 enmerkt\,  met veel aandacht voor Licht en schaduw. Ze werkt met olieverf o
 p doek en de inspiratie voor haar werk haalt ze uit de alledaagse omgeving 
 waar mensen onderweg zijn\, [..]\nhttps://fonteinkerk-amersfoort.nl/events/
 expositie-marijke-snoek/
URL:https://fonteinkerk-amersfoort.nl/events/expositie-marijke-snoek/
END:VEVENT
END:VCALENDAR