BEGIN:VCALENDAR
VERSION:2.0
PRODID:-//eventon.com NONSGML v1.0//EN
CALSCALE:GREGORIAN
METHOD:PUBLISH
BEGIN:VEVENT
UID:69e8ba6f3b23b
DTSTAMP:20260422T120919Z
DTSTART:20230611T100000Z
DTEND:20230611T215000Z
LOCATION:Fonteinkerk Robert Kochstraat 2-4\,  3817 JM Amersfoort
SUMMARY:Muziek en Ontmoeting: JUMP!
DESCRIPTION:De hit &#8216;Jump&#8217; van de popgroep Van Halen is een klas
 siek hardrocknummer waarin\,  naast snerpende gitaarsoli\,  de vette sound 
 van het keyboard een prominente rol speelt. Voor organist Henk Veldman is d
 it avontuur ook een &#8216;jump&#8217;. Hij wil proberen twee totaal versch
 illende klankbronnen bij elkaar te brengen. Dat is niet[..]\nhttps://fontei
 nkerk-amersfoort.nl/events/muziek-en-ontmoeting-11-juni-2023/
URL:https://fonteinkerk-amersfoort.nl/events/muziek-en-ontmoeting-11-juni-2023/
END:VEVENT
END:VCALENDAR