BEGIN:VCALENDAR
VERSION:2.0
PRODID:-//eventon.com NONSGML v1.0//EN
CALSCALE:GREGORIAN
METHOD:PUBLISH
BEGIN:VEVENT
UID:69e8a62de6ca9
DTSTAMP:20260422T104253Z
DTSTART:20230416T100000Z
DTEND:20230416T215000Z
LOCATION:Fonteinkerk Robert Kochstraat 2-4\,  3817 JM Amersfoort
SUMMARY:Muziek en Ontmoeting: Es war als...
DESCRIPTION:Ridders\,  geesten\,  koningen en liefdesparen doemen op tijden
 s dit programma. Als luisterden wij rond een groot vuur naar vertellingen\,
   terwijl de avond het landschap donker kleurt. Hier spreken bos\,  maan\, 
  aarde\,  zee en koralen direct tot onze verbeelding. Venus zingt in Es war
  als… op vertellingen geïnspireerde werken. Van Robert[..]\nhttps://font
 einkerk-amersfoort.nl/events/muziek-en-ontmoeting-16-april-2023/
URL:https://fonteinkerk-amersfoort.nl/events/muziek-en-ontmoeting-16-april-2023/
END:VEVENT
END:VCALENDAR