BEGIN:VCALENDAR
VERSION:2.0
PRODID:-//eventon.com NONSGML v1.0//EN
CALSCALE:GREGORIAN
METHOD:PUBLISH
BEGIN:VEVENT
UID:69e891f60a418
DTSTAMP:20260422T091638Z
DTSTART:20230524T170000Z
DTEND:20230524T215000Z
LOCATION:
SUMMARY:Kunstworkshop net Mary Velthoen
DESCRIPTION:Ter afsluiting van haar expositie in Huis van Zuid geeft Mary V
 elthoen een kunstworkshop geven over het thema Levensboom. Deze workshop vi
 ndt plaats op woensdag 24 mei\,  aanvang 19:00 uur. Je hoeft geen hoog nive
 au van tekenen of schilderen te hebben om een mooie avond te beleven. We we
 rken op[..]\nhttps://fonteinkerk-amersfoort.nl/events/kunstworkshop-mary-ve
 lthoen/
URL:https://fonteinkerk-amersfoort.nl/events/kunstworkshop-mary-velthoen/
END:VEVENT
END:VCALENDAR