BEGIN:VCALENDAR
VERSION:2.0
PRODID:-//eventon.com NONSGML v1.0//EN
CALSCALE:GREGORIAN
METHOD:PUBLISH
BEGIN:VEVENT
UID:69e892336d21c
DTSTAMP:20260422T091739Z
DTSTART:20230226
DTEND:20230227
LOCATION:Fonteinkerk Robert Kochstraat 2-4\,  3817 JM Amersfoort
SUMMARY:Expositie Mary Velthoen
DESCRIPTION:Opening expositie zondag 26 februari a.s. om 11.30uur Mary Velt
 hoen exposeert gedurende de lijdenstijd haar kunst in een verkoopexpositie 
 in de Fonteinkerk te Amersfoort. Het werk is te zien vanaf zondag 26 februa
 ri tot en met 23 mei. De opening vindt plaats op zondag 26 februari na de o
 chtend kerkdienst[..]\nhttps://fonteinkerk-amersfoort.nl/events/expositie-m
 ary-velthoen/
URL:https://fonteinkerk-amersfoort.nl/events/expositie-mary-velthoen/
END:VEVENT
END:VCALENDAR