BEGIN:VCALENDAR
VERSION:2.0
PRODID:-//eventon.com NONSGML v1.0//EN
CALSCALE:GREGORIAN
METHOD:PUBLISH
BEGIN:VEVENT
UID:69e8a4930c5c4
DTSTAMP:20260422T103603Z
DTSTART:20230415T113000Z
DTEND:20230415T215000Z
LOCATION:Kamp Amersfoort Loes van Overeemlaan 19
SUMMARY:Kamp Amersfoort
DESCRIPTION:Nationaal Monument Kamp Amersfoort\,  gelegen op de grens van L
 eusden en Amersfoort\,  houdt de herinnering in stand van het leed dat ca. 
 47.000 gevangenen moesten doorstaan tijdens de Tweede Wereldoorlog. Op deze
  historische plek is in 2004 is een herinneringscentrum gerealiseerd en in 
 2021 een grote museale presentatie. Daar wordt[..]\nhttps://fonteinkerk-ame
 rsfoort.nl/events/kamp-amersfoort/
URL:https://fonteinkerk-amersfoort.nl/events/kamp-amersfoort/
END:VEVENT
END:VCALENDAR