BEGIN:VCALENDAR
VERSION:2.0
PRODID:-//eventon.com NONSGML v1.0//EN
CALSCALE:GREGORIAN
METHOD:PUBLISH
BEGIN:VEVENT
UID:69e8a6928bc61
DTSTAMP:20260422T104434Z
DTSTART:20230223T190000Z
DTEND:20230223T225000Z
LOCATION:Fonteinkerk Robert Kochstraat 2-4\,  3817 JM Amersfoort
SUMMARY:Informatieavond Amersfoort gaat naar Taizé!
DESCRIPTION:Dit is een bericht voor iedereen tussen de 15 en 25 jaar\,  die
  zich afvraagt hoe het komt dat mensen altijd zo enthousiast terugkomen van
  een weekje naar Taizé.Binnenkort kun je er zelf naar toe! Het is een mooi
 e gelegenheid om Taizé te leren kennen\,  en ook om nieuwe vriendschappen[
 ..]\nhttps://fonteinkerk-amersfoort.nl/events/informatieavond-amersfoort-ga
 at-naar-taize/
URL:https://fonteinkerk-amersfoort.nl/events/informatieavond-amersfoort-gaat-naar-taize/
END:VEVENT
END:VCALENDAR