BEGIN:VCALENDAR
VERSION:2.0
PRODID:-//eventon.com NONSGML v1.0//EN
CALSCALE:GREGORIAN
METHOD:PUBLISH
BEGIN:VEVENT
UID:69e892336d599
DTSTAMP:20260422T091739Z
DTSTART:20230430
DTEND:20230501
LOCATION:
SUMMARY:Amersfoort gaat naar Taizé!
DESCRIPTION:Dit is een bericht voor iedereen tussen de 15 en 25 jaar\,  die
  zich afvraagt hoe het komt dat mensen altijd zo enthousiast terugkomen van
  een weekje naar Taizé.Binnenkort kun je er zelf naar toe! Het is een mooi
 e gelegenheid om Taizé te leren kennen\,  en ook om nieuwe vriendschappen[
 ..]\nhttps://fonteinkerk-amersfoort.nl/events/amersfoort-gaat-naar-taize/
URL:https://fonteinkerk-amersfoort.nl/events/amersfoort-gaat-naar-taize/
END:VEVENT
END:VCALENDAR