BEGIN:VCALENDAR
VERSION:2.0
PRODID:-//eventon.com NONSGML v1.0//EN
CALSCALE:GREGORIAN
METHOD:PUBLISH
BEGIN:VEVENT
UID:69e891d59d0c4
DTSTAMP:20260422T091605Z
DTSTART:20230108T090000Z
DTEND:20230108T103000Z
LOCATION:Fonteinkerk Robert Kochstraat 2-4\,  3817 JM Amersfoort
SUMMARY:Nieuwjaarswensen 2023
DESCRIPTION:Traditiegetrouw is het mogelijk om na de eerste gewone zondagvi
 ering gelegenheid om elkaar een goed nieuwjaar toe te wensen. De viering be
 gint om 10 uur\,  welkom!\nhttps://fonteinkerk-amersfoort.nl/events/nieuwja
 arswensen-2023/
URL:https://fonteinkerk-amersfoort.nl/events/nieuwjaarswensen-2023/
END:VEVENT
END:VCALENDAR