BEGIN:VCALENDAR
VERSION:2.0
PRODID:-//eventon.com NONSGML v1.0//EN
CALSCALE:GREGORIAN
METHOD:PUBLISH
BEGIN:VEVENT
UID:69e8bb1c25311
DTSTAMP:20260422T121212Z
DTSTART:20230331T173000Z
DTEND:20230331T215000Z
LOCATION:Fonteinkerk Robert Kochstraat 2-4\,  3817 JM Amersfoort
SUMMARY:Duurzame ruilbeurs voorjaar 2023
DESCRIPTION:Als je op zaterdag 1 april 2023 wilt komen winkelen\,  dan is d
 e voorwaarde dat je éérst iets om te ruilen inbrengt. Dat kan op VRIJDAG 
 31 MAART\,  tussen 15.00 en 20.00 UUR. VOOR ALLES GELDT DAT HET SCHOON EN H
 EEL MOET ZIJN DE VOLGENDE MATERIALEN ZIJN WELKOMPLANTJES- STEKJES- ZADEN-[.
 .]\nhttps://fonteinkerk-amersfoort.nl/events/duurzame-ruilbeurs-voorjaar-20
 23/
URL:https://fonteinkerk-amersfoort.nl/events/duurzame-ruilbeurs-voorjaar-2023/
END:VEVENT
END:VCALENDAR