BEGIN:VCALENDAR
VERSION:2.0
PRODID:-//eventon.com NONSGML v1.0//EN
CALSCALE:GREGORIAN
METHOD:PUBLISH
BEGIN:VEVENT
UID:69e8badf19cd6
DTSTAMP:20260422T121111Z
DTSTART:20230419T173000Z
DTEND:20230419T215000Z
LOCATION:Fonteinkerk Robert Kochstraat 2-4\,  3817 JM Amersfoort
SUMMARY:De staatkundige bakermat van Nederland
DESCRIPTION:Terwijl over al in de wereld de roep om sterke leiders toeneemt
  en de democratische rechtsstaat onder druk staat van totalitaire bestuursv
 ormen\,  is het goed om nog eens stil te staan bij de bronnen van onze eige
 n politieke traditie. Wat bezielde onze voorouders eigenlijk en wat kunnen 
 wij daar nu[..]\nhttps://fonteinkerk-amersfoort.nl/events/de-staatkundige-b
 akermat-van-nederland/
URL:https://fonteinkerk-amersfoort.nl/events/de-staatkundige-bakermat-van-nederland/
END:VEVENT
END:VCALENDAR