BEGIN:VCALENDAR
VERSION:2.0
PRODID:-//eventon.com NONSGML v1.0//EN
CALSCALE:GREGORIAN
METHOD:PUBLISH
BEGIN:VEVENT
UID:69e8d372cc228
DTSTAMP:20260422T135602Z
DTSTART:20230301T190000Z
DTEND:20230301T225000Z
LOCATION:Fonteinkerk Robert Kochstraat 2-4\,  3817 JM Amersfoort
SUMMARY:Meditatieve avonden Franciscus van Assisi
DESCRIPTION:In 1224 zag Franciscus van Assisi (1182-1226) een visioen van d
 e gekruisigde Christus dat hem voor altijd tekende. Nooit eerder had hij zi
 ch zo overweldigend geliefd gevoeld. Hij schreef daarop de Laudes Dei Altis
 smi\,  de Lofzang op de Allerhoogste\,  waarin God aangesproken wordt als l
 outer goedheid\,  wijsheid\,  liefde\,  geborgenheid\,  vreugde[..]\nhttps:
 //fonteinkerk-amersfoort.nl/events/meditatieve-avonden-franciscus-van-assis
 i/
URL:https://fonteinkerk-amersfoort.nl/events/meditatieve-avonden-franciscus-van-assisi/
END:VEVENT
END:VCALENDAR