BEGIN:VCALENDAR
VERSION:2.0
PRODID:-//eventon.com NONSGML v1.0//EN
CALSCALE:GREGORIAN
METHOD:PUBLISH
BEGIN:VEVENT
UID:69e8ea2f8bc31
DTSTAMP:20260422T153303Z
DTSTART:20230209T190000Z
DTEND:20230209T225000Z
LOCATION:Fonteinkerk Robert Kochstraat 2-4\,  3817 JM Amersfoort
SUMMARY:El Greco\,  Verf en Vuur (avond 1)
DESCRIPTION:In gesprek met El GrecoDe schilder El Greco (1541 – 1614) is 
 van onschatbare betekenis geweest voor de ontwikkeling van de moderne kunst
  eind 19e en begin 20e eeuw. Picasso bijvoorbeeld zag hem als zijn grootste
  voorbeeld\,  vóór Rembrandt en Velazques. Toch heeft El Greco nooit scho
 ol gemaakt en kort[..]\nhttps://fonteinkerk-amersfoort.nl/events/el-greco-v
 erf-en-vuur/
URL:https://fonteinkerk-amersfoort.nl/events/el-greco-verf-en-vuur/
END:VEVENT
END:VCALENDAR