BEGIN:VCALENDAR
VERSION:2.0
PRODID:-//eventon.com NONSGML v1.0//EN
CALSCALE:GREGORIAN
METHOD:PUBLISH
BEGIN:VEVENT
UID:69e9034095163
DTSTAMP:20260422T172000Z
DTSTART:20230209T183000Z
DTEND:20230209T225000Z
LOCATION:Bergkerk Dr. Abraham Kuyperlaan 2
SUMMARY:Waardenvol opvoeden
DESCRIPTION:Ben je (groot)ouder\,  verzorger of op een andere manier betrok
 ken bij de opvoeding van kinderen en/of tieners? Wil je je vragen en ervari
 ngen over de rol van geloof in die opvoeding delen? Tijdens deze twee avond
 en gaan we in gesprek over eigen ervaringen\,  over visie en over de prakti
 jk van[..]\nhttps://fonteinkerk-amersfoort.nl/events/erik-renkema-en-jacomi
 jn-van-der-kooy/
URL:https://fonteinkerk-amersfoort.nl/events/erik-renkema-en-jacomijn-van-der-kooy/
END:VEVENT
END:VCALENDAR