BEGIN:VCALENDAR
VERSION:2.0
PRODID:-//eventon.com NONSGML v1.0//EN
CALSCALE:GREGORIAN
METHOD:PUBLISH
BEGIN:VEVENT
UID:69e8ec0618fe4
DTSTAMP:20260422T154054Z
DTSTART:20230115T153000Z
DTEND:20230115T225000Z
LOCATION:Fonteinkerk Robert Kochstraat 2-4\,  3817 JM Amersfoort
SUMMARY:Vegetarisch eten\,  waarom?
DESCRIPTION:”Zonder boeren geen voedsel” stond met grote letters op&nbs
 p; trekkers en op borden in het weiland van protesterende boeren. Een waarh
 eid als een koe natuurlijk. Zijn het boerenbedrijf&nbsp; en de voedselzeker
 heid\,  in Nederland of wereldwijd &nbsp;in gevaar? &nbsp;En zo ja\,  hoe k
 omt dat dan?&nbsp;Op deze zondagmiddag 15 januari 2023 komt[..]\nhttps://fo
 nteinkerk-amersfoort.nl/events/vegetarisch-eten-waarom/
URL:https://fonteinkerk-amersfoort.nl/events/vegetarisch-eten-waarom/
END:VEVENT
END:VCALENDAR