BEGIN:VCALENDAR
VERSION:2.0
PRODID:-//eventon.com NONSGML v1.0//EN
CALSCALE:GREGORIAN
METHOD:PUBLISH
BEGIN:VEVENT
UID:69e8d3733a8fc
DTSTAMP:20260422T135603Z
DTSTART:20230903T130000Z
DTEND:20230903T170000Z
LOCATION:Fonteinkerk Robert Kochstraat 2-4\,  3817 JM Amersfoort
SUMMARY:Afscheid Ds. Wim Verschoor
DESCRIPTION:Na bijna 20 jaar in de Fonteinkerk te hebben &#8220;gestaan&#82
 21; neemt Ds. Wim Verschoor afscheid van de Fonteinkerk en gaat met welverd
 iend emeritaat. De viering van deze zondag staat dan ook geheel in het teke
 n van zijn afscheid. De viering begint om 15:00 uur\,  gevolgd door een rec
 eptie. Er is[..]\nhttps://fonteinkerk-amersfoort.nl/events/afscheid-ds-wim-
 verschoor/
URL:https://fonteinkerk-amersfoort.nl/events/afscheid-ds-wim-verschoor/
END:VEVENT
END:VCALENDAR