BEGIN:VCALENDAR
VERSION:2.0
PRODID:-//eventon.com NONSGML v1.0//EN
CALSCALE:GREGORIAN
METHOD:PUBLISH
BEGIN:VEVENT
UID:69e8ba9e572ed
DTSTAMP:20260422T121006Z
DTSTART:20230127T190000Z
DTEND:20230127T225000Z
LOCATION:Fonteinkerk Robert Kochstraat 2-4\,  3817 JM Amersfoort
SUMMARY:Wees erbij café - Trio Wilde Eend
DESCRIPTION:De Poppenspeler van Warschau door trio Wilde Eend. Gottfrid van
  Eck\,  vertelling &amp; klarinet; Tessa Zoutendijk\,  viool; Juul Beerda\,
   accordeon.Een muzikale vertelvoorstelling over moed en levenskunst. Valt 
 er ooit iets te leren van een oorlog? Hoe blijf je overeind als je er midde
 nin zit? Welke keuzes kun je dan nog[..]\nhttps://fonteinkerk-amersfoort.nl
 /events/wees-erbij-cafe-trio-wilde-eend/
URL:https://fonteinkerk-amersfoort.nl/events/wees-erbij-cafe-trio-wilde-eend/
END:VEVENT
END:VCALENDAR