BEGIN:VCALENDAR
VERSION:2.0
PRODID:-//eventon.com NONSGML v1.0//EN
CALSCALE:GREGORIAN
METHOD:PUBLISH
BEGIN:VEVENT
UID:69e8a5a195d29
DTSTAMP:20260422T104033Z
DTSTART:20230315T183000Z
DTEND:20230315T225000Z
LOCATION:Fonteinkerk Robert Kochstraat 2-4\,  3817 JM Amersfoort
SUMMARY:Leerhuis Jona
DESCRIPTION:Leerhuis over Jona / Yunus\,  de profeet voor joden\,  christen
 en en moslims Een goede profeet zij/hij gaat op ‘drie poten’: met de er
 varing uit het verleden\,  ziet hij door het heden en verwacht de toekomst.
  Uit het verleden weet hij dat de Barmhartige barmhartig is en de Rechtvaar
 dige rechtvaardig. Door[..]\nhttps://fonteinkerk-amersfoort.nl/events/leerh
 uis-jona/
URL:https://fonteinkerk-amersfoort.nl/events/leerhuis-jona/
END:VEVENT
END:VCALENDAR