BEGIN:VCALENDAR
VERSION:2.0
PRODID:-//eventon.com NONSGML v1.0//EN
CALSCALE:GREGORIAN
METHOD:PUBLISH
BEGIN:VEVENT
UID:69e88f5399b36
DTSTAMP:20260422T090523Z
DTSTART:20221209
DTEND:20221210
LOCATION:
SUMMARY:Adventschilderen 2022
DESCRIPTION:Nadere informatie volgt.\nhttps://fonteinkerk-amersfoort.nl/eve
 nts/adventschilderen-2022/
URL:https://fonteinkerk-amersfoort.nl/events/adventschilderen-2022/
END:VEVENT
END:VCALENDAR