BEGIN:VCALENDAR
VERSION:2.0
PRODID:-//eventon.com NONSGML v1.0//EN
CALSCALE:GREGORIAN
METHOD:PUBLISH
BEGIN:VEVENT
UID:69e8a5bccc638
DTSTAMP:20260422T104100Z
DTSTART:20221218T110000Z
DTEND:20221218T225000Z
LOCATION:Fonteinkerk Robert Kochstraat 2-4\,  3817 JM Amersfoort
SUMMARY:Kerstmuziek en ontmoeting met FONS
DESCRIPTION:Kerstmuziek &amp; Ontmoeting&nbsp;met FONS&nbsp; Kersttijd is&n
 bsp;óók&nbsp;verhalentijd. Natuurlijk&nbsp;denken we dan aan&nbsp;het ver
 haal&nbsp;van de geboorte van het Kerstkind. Maar wie kent niet ook het ver
 haal van Charles Dickens&nbsp;met de intrigerende titel “A Christmas Caro
 l”? Alsof we juist in dit koude en donkere seizoen meer behoefte&nbsp;heb
 ben&nbsp;aan de warmte van een&nbsp;mooi&nbsp;verhaal. Of&nbsp;gebruiken we
 &nbsp;deze meer[..]\nhttps://fonteinkerk-amersfoort.nl/events/kerstmuziek-e
 n-ontmoeting-18-december-2022/
URL:https://fonteinkerk-amersfoort.nl/events/kerstmuziek-en-ontmoeting-18-december-2022/
END:VEVENT
END:VCALENDAR