BEGIN:VCALENDAR
VERSION:2.0
PRODID:-//eventon.com NONSGML v1.0//EN
CALSCALE:GREGORIAN
METHOD:PUBLISH
BEGIN:VEVENT
UID:69e8bb81d4982
DTSTAMP:20260422T121353Z
DTSTART:20230312T110000Z
DTEND:20230312T225000Z
LOCATION:Fonteinkerk Robert Kochstraat 2-4\,  3817 JM Amersfoort
SUMMARY:Muziek en ontmoeting 12 maart 2023
DESCRIPTION:Muziek &amp; Ontmoeting over dromen; daar wil je bij zijn! In d
 eze editie van M&amp;O brengen Erik Renkema\,  Diederik Blankesteijn en FON
 S een bijzonder programma over het thema Dromen. Het is de bedoeling om doo
 r teksten en muziek de aanwezigen te laten ervaren wat er gebeurt als je je
  openstelt[..]\nhttps://fonteinkerk-amersfoort.nl/events/fons/
URL:https://fonteinkerk-amersfoort.nl/events/fons/
END:VEVENT
END:VCALENDAR