BEGIN:VCALENDAR
VERSION:2.0
PRODID:-//eventon.com NONSGML v1.0//EN
CALSCALE:GREGORIAN
METHOD:PUBLISH
BEGIN:VEVENT
UID:69e8d35e57d01
DTSTAMP:20260422T135542Z
DTSTART:20221106T110000Z
DTEND:20221106T225000Z
LOCATION:
SUMMARY:Muziek en ontmoeting 6 november 2022
DESCRIPTION:Op 6 november zingt Kamerkoor Venus een lunchconcert tijdens Mu
 ziek&amp;Ontmoeting in de Fonteinkerk. Aan de kusten van de Oostzee wordt v
 eel gezongen. Er klinken oeroude verhalen op volkse melodieën. De zangcult
 uur gaat er van mond tot mond. In When I close my eyes zingt Kamerkoor Venu
 s werk van hedendaagse componisten[..]\nhttps://fonteinkerk-amersfoort.nl/e
 vents/kamerkoor-venus/
URL:https://fonteinkerk-amersfoort.nl/events/kamerkoor-venus/
END:VEVENT
END:VCALENDAR