BEGIN:VCALENDAR
VERSION:2.0
PRODID:-//eventon.com NONSGML v1.0//EN
CALSCALE:GREGORIAN
METHOD:PUBLISH
BEGIN:VEVENT
UID:69e88f0a13165
DTSTAMP:20260422T090410Z
DTSTART:20220115T130000Z
DTEND:20220115T150000Z
LOCATION:Fonteinkerk Robert Kochstraat 2-4\,  3817 JM Amersfoort
SUMMARY:De dag dat de walvis kwam
DESCRIPTION:&#8220;De dag dat de walvis kwam&#8221; &#8211; John Ironmonger
  TOT NADER ORDER UITGESTELD Meer informatie? Neem per e-mail contact op met
  de beraadsgroep Vorming Door Ontmoeting.  \nhttps://fonteinkerk-amersfoor
 t.nl/events/de-dag-dat-de-walvis-kwam/
URL:https://fonteinkerk-amersfoort.nl/events/de-dag-dat-de-walvis-kwam/
END:VEVENT
END:VCALENDAR