BEGIN:VCALENDAR
VERSION:2.0
PRODID:-//eventon.com NONSGML v1.0//EN
CALSCALE:GREGORIAN
METHOD:PUBLISH
BEGIN:VEVENT
UID:69e8a5eb5961b
DTSTAMP:20260422T104147Z
DTSTART:20211228T180000Z
DTEND:20220114T200000Z
LOCATION:Fonteinkerk Robert Kochstraat 2-4\,  3817 JM Amersfoort
SUMMARY:Stiltemomenten tijdens de lockdown
DESCRIPTION:Kort na uitbreken van het Coronavirus\,  in het vroege voorjaar
  van 2020. is de Fonteinkerk gestart met een Stiltemoment. Dit kreeg een ve
 rvolg tijdens Advent 2020 en de 40 dagentijd in 2021. Tijdens de huidige av
 ondlockdown organiseert de Fonteinkerk opnieuw Stiltemomenten. Op maandag\,
   woensdag en vrijdag van 19 tot 21[..]\nhttps://fonteinkerk-amersfoort.nl/
 events/stiltemomenten/
URL:https://fonteinkerk-amersfoort.nl/events/stiltemomenten/
END:VEVENT
END:VCALENDAR