BEGIN:VCALENDAR
VERSION:2.0
PRODID:-//eventon.com NONSGML v1.0//EN
CALSCALE:GREGORIAN
METHOD:PUBLISH
BEGIN:VEVENT
UID:69e8baca002b7
DTSTAMP:20260422T121050Z
DTSTART:20211128
DTEND:20211129
LOCATION:Fonteinkerk Robert Kochstraat 2-4\,  3817 JM Amersfoort
SUMMARY:Expositie René van Tol
DESCRIPTION:Expositie Rné van Tol Van 28 november 2021 tot 21 februari 202
 2 exposeert de kunstenaar René van Tol uit Edam in de Fonteinkerk. René v
 an Tol werd geboren in 1958 te Amsterdam. Hij studeerde kunstgeschiedenis a
 an de Vrije Universiteit van Amsterdam\,  daarna vrije grafiek aan de Konin
 klijke Academie te Den[..]\nhttps://fonteinkerk-amersfoort.nl/events/exposi
 tie-rene-van-tol/
URL:https://fonteinkerk-amersfoort.nl/events/expositie-rene-van-tol/
END:VEVENT
END:VCALENDAR