BEGIN:VCALENDAR
VERSION:2.0
PRODID:-//eventon.com NONSGML v1.0//EN
CALSCALE:GREGORIAN
METHOD:PUBLISH
BEGIN:VEVENT
UID:69e8d34da8177
DTSTAMP:20260422T135525Z
DTSTART:20211127T070000Z
DTEND:20211127T090000Z
LOCATION:Fonteinkerk Robert Kochstraat 2-4\,  3817 JM Amersfoort
SUMMARY:Hoe eerlijk is je kledingkast?
DESCRIPTION:Hoe eerlijk is je kledingkast? De kledingindustrie is een van d
 e vervuilendste\,  meest onderdrukkende industrieën ter wereld. Tijdens de
 ze interactieve lezing van ANNEMARIE HOUKES\,  voorzitter van de werkgroep 
 Fairtrade Gemeente Leusden\,  leer je in vier stappen een duurzame en eerli
 jke garderobe samen te stellen. Inloop vanaf 19.45 uur met koffie/thee.[..]
 \nhttps://fonteinkerk-amersfoort.nl/events/kledingkast/
URL:https://fonteinkerk-amersfoort.nl/events/kledingkast/
END:VEVENT
END:VCALENDAR