BEGIN:VCALENDAR
VERSION:2.0
PRODID:-//eventon.com NONSGML v1.0//EN
CALSCALE:GREGORIAN
METHOD:PUBLISH
BEGIN:VEVENT
UID:69e8e9ebcd20e
DTSTAMP:20260422T153155Z
DTSTART:20211218T040000Z
DTEND:20211218T050000Z
LOCATION:Fonteinkerk Robert Kochstraat 2-4\,  3817 JM Amersfoort
SUMMARY:Soep op de stoep
DESCRIPTION:Gedurende de coronatijd hebben we helaas geen maaltijden kunnen
  organiseren\,  daarom hebben we gezocht naar een alternatief. Dit is “so
 ep op de stoep” geworden. We gaan dit als volgt invullen. We maken een le
 kkere maaltijdsoep die u tussen 17.00 en 18.00 uur kunt ophalen op de stoep
  van de kerk.[..]\nhttps://fonteinkerk-amersfoort.nl/events/soep-op-de-stoe
 p-dec21/
URL:https://fonteinkerk-amersfoort.nl/events/soep-op-de-stoep-dec21/
END:VEVENT
END:VCALENDAR