BEGIN:VCALENDAR
VERSION:2.0
PRODID:-//eventon.com NONSGML v1.0//EN
CALSCALE:GREGORIAN
METHOD:PUBLISH
BEGIN:VEVENT
UID:69e92ee2bf22d
DTSTAMP:20260422T202610Z
DTSTART:20211212T010000Z
DTEND:20211212T105000Z
LOCATION:
SUMMARY:Excursie: Maria Magdelena
DESCRIPTION:VOORAANKONDIGING De beraadsgroep Vorming door Ontmoeting (VDO) 
 organiseert een excursie naar de tentoonstelling rond Maria Magdalena in he
 t Catharijne Convent in Utrecht. Details volgen binnenkort. Meer informatie
  over deze tentoonstelling vindt u HIER. Voor meer informatie over de excur
 sie kunt u contact opnemen met Roeleke de Witte via deze link.\nhttps://fon
 teinkerk-amersfoort.nl/events/excursie-maria-magdalena/
URL:https://fonteinkerk-amersfoort.nl/events/excursie-maria-magdalena/
END:VEVENT
END:VCALENDAR