BEGIN:VCALENDAR
VERSION:2.0
PRODID:-//eventon.com NONSGML v1.0//EN
CALSCALE:GREGORIAN
METHOD:PUBLISH
BEGIN:VEVENT
UID:69e942638964a
DTSTAMP:20260422T214923Z
DTSTART:20211112T070000Z
DTEND:20211112T105000Z
LOCATION:Fonteinkerk Robert Kochstraat 2-4\,  3817 JM Amersfoort
SUMMARY:Leerhuis: Bijbelse Vrouwen in zicht
DESCRIPTION:Leerhuis Bijbelse Vrouwen in zicht Ook in dit najaar bieden wij
  een leerhuis Bijbelse vrouwen in zicht aan onder leiding van Magda v.d. En
 de\,  theologe. Vanaf 1979 houdt ze zich bezig met kabbala. Ze vertaalde Ka
 bbala en Exodus\,  een boek van haar leraar Z’ev ben Shimon Halevi in het
  Nederlands.[..]\nhttps://fonteinkerk-amersfoort.nl/events/leerhuis-bijbels
 e-vrouwen-in-zicht-2021/
URL:https://fonteinkerk-amersfoort.nl/events/leerhuis-bijbelse-vrouwen-in-zicht-2021/
END:VEVENT
END:VCALENDAR