BEGIN:VCALENDAR
VERSION:2.0
PRODID:-//eventon.com NONSGML v1.0//EN
CALSCALE:GREGORIAN
METHOD:PUBLISH
BEGIN:VEVENT
UID:69e9584b156dd
DTSTAMP:20260422T232251Z
DTSTART:20211105
DTEND:20211106
LOCATION:Fonteinkerk Robert Kochstraat 2-4\,  3817 JM Amersfoort
SUMMARY:Duurzame ruilbeurs
DESCRIPTION:Duurzame ruilbeurs Herken je dat? Bij de wisseling van de seizo
 enen ontstaat bij veel mensen de neiging op zoek te gaan naar nieuwe kledin
 g: een nieuwe jas\,  schoenen\,  toch dat leuke jurkje voor de zomer of een
  extra trui voor de winter. En hoe leuk is het om in de[..]\nhttps://fontei
 nkerk-amersfoort.nl/events/duurzame-ruilbeurs/
URL:https://fonteinkerk-amersfoort.nl/events/duurzame-ruilbeurs/
END:VEVENT
END:VCALENDAR