BEGIN:VCALENDAR
VERSION:2.0
PRODID:-//eventon.com NONSGML v1.0//EN
CALSCALE:GREGORIAN
METHOD:PUBLISH
BEGIN:VEVENT
UID:69e96d9838fef
DTSTAMP:20260423T005344Z
DTSTART:20211114T223000Z
DTEND:20211115T105000Z
LOCATION:Parkeerplaats Dodeweg Dodeweg
SUMMARY:Verwonderwandeling
DESCRIPTION:Neem een duik in de natuur en ontdek jezelf en God Aan de hand 
 van (spirituele) thema’s uit de natuur en de seizoenen gaan we op pad. We
  maken gebruik van verschillende werkvormen afkomstig uit de mindfulness en
  wandelen afwisselend in stilte of in gesprek met een tochtgenoot over een[
 ..]\nhttps://fonteinkerk-amersfoort.nl/events/verwonderwandeling/
URL:https://fonteinkerk-amersfoort.nl/events/verwonderwandeling/
END:VEVENT
END:VCALENDAR