BEGIN:VCALENDAR
VERSION:2.0
PRODID:-//eventon.com NONSGML v1.0//EN
CALSCALE:GREGORIAN
METHOD:PUBLISH
BEGIN:VEVENT
UID:69e983c140ae2
DTSTAMP:20260423T022817Z
DTSTART:20211003
DTEND:20211004
LOCATION:Fonteinkerk Robert Kochstraat 2-4\,  3817 JM Amersfoort
SUMMARY:Expositie Anneke Kaai
DESCRIPTION:Expositie Anneke Kaai Van 3 oktober t/m 21 november exposeert d
 e kunstenares Anneke Kaai uit Giessenburg in de Fonteinkerk. De serie schil
 derijen van haar hand genaamd “Gebeden” die in Huis van Zuid te zien za
 l zijn verwijst naar verschillende gebeden uit het Oude- en Nieuwe Testamen
 t. Ongeveer 15 werken zullen[..]\nhttps://fonteinkerk-amersfoort.nl/events/
 expositie-anneke-kaai/
URL:https://fonteinkerk-amersfoort.nl/events/expositie-anneke-kaai/
END:VEVENT
END:VCALENDAR