BEGIN:VCALENDAR
VERSION:2.0
PRODID:-//eventon.com NONSGML v1.0//EN
CALSCALE:GREGORIAN
METHOD:PUBLISH
BEGIN:VEVENT
UID:69e8d31a2a7ca
DTSTAMP:20260422T135434Z
DTSTART:20210226
DTEND:20210227
LOCATION:Fonteinkerk Robert Kochstraat 2-4\,  3817 JM Amersfoort
SUMMARY:Expositie De Vuurvogel
DESCRIPTION:Het raadsel van De Vuurvogel Misschien is het u opgevallen\,  i
 n de hal van Huis van Zuid hangt een kunstwerk van ons gemeentelid Dick Wes
 terveld. Dit werk\,  De Vuurvogel\,  maakt deel uit van een kleine expositi
 e in Huis van Zuid. De expositie is geprogrammeerd tussen de onlangs beëin
 digde expositie van[..]\nhttps://fonteinkerk-amersfoort.nl/events/expositie
 -de-vuurvogel/
URL:https://fonteinkerk-amersfoort.nl/events/expositie-de-vuurvogel/
END:VEVENT
END:VCALENDAR